Package: idiogram Version: 1.83.0 Command: /home/biocbuild/bbs-3.21-bioc/R/bin/R CMD INSTALL idiogram StartedAt: 2025-02-20 15:40:33 -0500 (Thu, 20 Feb 2025) EndedAt: 2025-02-20 15:40:49 -0500 (Thu, 20 Feb 2025) EllapsedTime: 15.1 seconds RetCode: 0 Status: OK