Package: idiogram Version: 1.83.0 Command: /Library/Frameworks/R.framework/Resources/bin/R CMD check --install=check:idiogram.install-out.txt --library=/Library/Frameworks/R.framework/Resources/library --no-vignettes --timings idiogram_1.83.0.tar.gz StartedAt: 2025-02-19 21:05:12 -0500 (Wed, 19 Feb 2025) EndedAt: 2025-02-19 21:07:08 -0500 (Wed, 19 Feb 2025) EllapsedTime: 116.6 seconds RetCode: 0 Status: OK CheckDir: idiogram.Rcheck Warnings: 0