Package: ideal Version: 2.1.1 Command: E:\biocbuild\bbs-3.21-bioc\R\bin\R.exe CMD check --no-multiarch --install=check:ideal.install-out.txt --library=E:\biocbuild\bbs-3.21-bioc\R\library --no-vignettes --timings ideal_2.1.1.tar.gz StartedAt: 2025-02-20 02:06:50 -0500 (Thu, 20 Feb 2025) EndedAt: 2025-02-20 02:15:15 -0500 (Thu, 20 Feb 2025) EllapsedTime: 504.3 seconds RetCode: 0 Status: OK CheckDir: ideal.Rcheck Warnings: 0