############################################################################## ############################################################################## ### ### Running command: ### ### /home/biocbuild/bbs-3.21-bioc/R/bin/R CMD INSTALL ideal ### ############################################################################## ############################################################################## * installing to library ‘/home/biocbuild/bbs-3.21-bioc/R/site-library’ ERROR: dependencies ‘IHW’, ‘GOstats’ are not available for package ‘ideal’ Perhaps try a variation of: install.packages(c('IHW', 'GOstats')) * removing ‘/home/biocbuild/bbs-3.21-bioc/R/site-library/ideal’