Package: ideal Version: 2.1.1 Command: /home/biocbuild/bbs-3.21-bioc/R/bin/R CMD check --install=check:ideal.install-out.txt --library=/home/biocbuild/bbs-3.21-bioc/R/site-library --timings ideal_2.1.1.tar.gz StartedAt: 2025-02-19 23:11:44 -0500 (Wed, 19 Feb 2025) EndedAt: 2025-02-19 23:20:43 -0500 (Wed, 19 Feb 2025) EllapsedTime: 538.7 seconds RetCode: 0 Status: OK CheckDir: ideal.Rcheck Warnings: 0