############################################################################## ############################################################################## ### ### Running command: ### ### /home/biocbuild/bbs-3.21-bioc/R/bin/R CMD build --keep-empty-dirs --no-resave-data ideal ### ############################################################################## ############################################################################## * checking for file ‘ideal/DESCRIPTION’ ... OK * preparing ‘ideal’: * checking DESCRIPTION meta-information ... OK * installing the package to build vignettes ----------------------------------- ERROR: dependencies ‘IHW’, ‘GOstats’ are not available for package ‘ideal’ Perhaps try a variation of: install.packages(c('IHW', 'GOstats')) * removing ‘/tmp/Rtmp7afopa/Rinst189129113d2a23/ideal’ ----------------------------------- ERROR: package installation failed