Package: ideal Version: 2.1.1 Command: rm -rf ideal.buildbin-libdir && mkdir ideal.buildbin-libdir && /Users/biocbuild/BBS/utils/build-universal.sh ideal_2.1.1.tar.gz /Library/Frameworks/R.framework/Resources/bin/R ideal.buildbin-libdir StartedAt: 2025-02-20 00:37:00 -0500 (Thu, 20 Feb 2025) EndedAt: 2025-02-20 00:38:21 -0500 (Thu, 20 Feb 2025) EllapsedTime: 80.8 seconds RetCode: 0 Status: OK PackageFile: ideal_2.1.1.tgz PackageFileSize: 5.537 MiB