Package: icetea Version: 1.25.0 Command: /Library/Frameworks/R.framework/Resources/bin/R CMD check --install=check:icetea.install-out.txt --library=/Library/Frameworks/R.framework/Resources/library --no-vignettes --timings icetea_1.25.0.tar.gz StartedAt: 2025-02-21 21:04:27 -0500 (Fri, 21 Feb 2025) EndedAt: 2025-02-21 21:11:26 -0500 (Fri, 21 Feb 2025) EllapsedTime: 418.7 seconds RetCode: 0 Status: WARNINGS CheckDir: icetea.Rcheck Warnings: 1