Package: icetea Version: 1.25.0 Command: rm -rf icetea.buildbin-libdir && mkdir icetea.buildbin-libdir && /Users/biocbuild/BBS/utils/build-universal.sh icetea_1.25.0.tar.gz /Library/Frameworks/R.framework/Resources/bin/R icetea.buildbin-libdir StartedAt: 2025-02-22 00:36:39 -0500 (Sat, 22 Feb 2025) EndedAt: 2025-02-22 00:37:48 -0500 (Sat, 22 Feb 2025) EllapsedTime: 69.7 seconds RetCode: 0 Status: OK PackageFile: icetea_1.25.0.tgz PackageFileSize: 1.113 MiB