Package: icetea Version: 1.25.0 Command: rm -rf icetea.buildbin-libdir && mkdir icetea.buildbin-libdir && /Users/biocbuild/BBS/utils/build-universal.sh icetea_1.25.0.tar.gz /Library/Frameworks/R.framework/Resources/bin/R icetea.buildbin-libdir StartedAt: 2025-02-20 22:22:19 -0500 (Thu, 20 Feb 2025) EndedAt: 2025-02-20 22:22:41 -0500 (Thu, 20 Feb 2025) EllapsedTime: 21.5 seconds RetCode: 0 Status: OK PackageFile: icetea_1.25.0.tgz PackageFileSize: 1.114 MiB