Package: ibh Version: 1.55.0 Command: /home/biocbuild/bbs-3.21-bioc/R/bin/R CMD INSTALL ibh StartedAt: 2025-02-19 15:02:50 -0500 (Wed, 19 Feb 2025) EndedAt: 2025-02-19 15:03:01 -0500 (Wed, 19 Feb 2025) EllapsedTime: 10.9 seconds RetCode: 0 Status: OK