Package: ibh Version: 1.55.0 Command: /Library/Frameworks/R.framework/Resources/bin/R CMD check --install=check:ibh.install-out.txt --library=/Library/Frameworks/R.framework/Resources/library --no-vignettes --timings ibh_1.55.0.tar.gz StartedAt: 2025-02-19 19:46:20 -0500 (Wed, 19 Feb 2025) EndedAt: 2025-02-19 19:46:31 -0500 (Wed, 19 Feb 2025) EllapsedTime: 11.1 seconds RetCode: 0 Status: OK CheckDir: ibh.Rcheck Warnings: 0