Package: iSeq Version: 1.59.0 Command: chmod a+r iSeq -R && E:\biocbuild\bbs-3.21-bioc\R\bin\R.exe CMD build --keep-empty-dirs --no-resave-data iSeq StartedAt: 2025-02-19 19:30:46 -0500 (Wed, 19 Feb 2025) EndedAt: 2025-02-19 19:31:24 -0500 (Wed, 19 Feb 2025) EllapsedTime: 38.0 seconds RetCode: 0 Status: OK PackageFile: iSeq_1.59.0.tar.gz PackageFileSize: 1.201 MiB