Package: iSeq Version: 1.59.0 Command: rm -rf iSeq.buildbin-libdir && mkdir iSeq.buildbin-libdir && /Users/biocbuild/BBS/utils/build-universal.sh iSeq_1.59.0.tar.gz /Library/Frameworks/R.framework/Resources/bin/R iSeq.buildbin-libdir StartedAt: 2025-02-20 00:37:56 -0500 (Thu, 20 Feb 2025) EndedAt: 2025-02-20 00:38:03 -0500 (Thu, 20 Feb 2025) EllapsedTime: 6.9 seconds RetCode: 0 Status: OK PackageFile: iSeq_1.59.0.tgz PackageFileSize: 1.543 MiB