Package: iSEEu Version: 1.19.0 Command: /Library/Frameworks/R.framework/Resources/bin/R CMD INSTALL iSEEu StartedAt: 2025-02-20 15:28:35 -0500 (Thu, 20 Feb 2025) EndedAt: 2025-02-20 15:29:21 -0500 (Thu, 20 Feb 2025) EllapsedTime: 46.1 seconds RetCode: 0 Status: OK