Package: iSEEu Version: 1.19.0 Command: /Library/Frameworks/R.framework/Resources/bin/R CMD check --install=check:iSEEu.install-out.txt --library=/Library/Frameworks/R.framework/Resources/library --no-vignettes --timings iSEEu_1.19.0.tar.gz StartedAt: 2025-02-20 21:11:19 -0500 (Thu, 20 Feb 2025) EndedAt: 2025-02-20 21:16:46 -0500 (Thu, 20 Feb 2025) EllapsedTime: 327.7 seconds RetCode: 0 Status: WARNINGS CheckDir: iSEEu.Rcheck Warnings: 1