Package: iSEEu Version: 1.19.0 Command: /Library/Frameworks/R.framework/Resources/bin/R CMD build --keep-empty-dirs --no-resave-data iSEEu StartedAt: 2025-02-20 17:07:05 -0500 (Thu, 20 Feb 2025) EndedAt: 2025-02-20 17:08:59 -0500 (Thu, 20 Feb 2025) EllapsedTime: 114.3 seconds RetCode: 0 Status: OK PackageFile: iSEEu_1.19.0.tar.gz PackageFileSize: 1.62 MiB