Package: iSEEu Version: 1.19.0 Command: rm -rf iSEEu.buildbin-libdir && mkdir iSEEu.buildbin-libdir && /Users/biocbuild/BBS/utils/build-universal.sh iSEEu_1.19.0.tar.gz /Library/Frameworks/R.framework/Resources/bin/R iSEEu.buildbin-libdir StartedAt: 2025-02-20 22:23:13 -0500 (Thu, 20 Feb 2025) EndedAt: 2025-02-20 22:23:29 -0500 (Thu, 20 Feb 2025) EllapsedTime: 15.3 seconds RetCode: 0 Status: OK PackageFile: iSEEu_1.19.0.tgz PackageFileSize: 1.431 MiB