Package: iSEEtree Version: 1.2.0 Command: /Library/Frameworks/R.framework/Resources/bin/R CMD INSTALL iSEEtree StartedAt: 2025-10-09 16:42:31 -0400 (Thu, 09 Oct 2025) EndedAt: 2025-10-09 16:44:15 -0400 (Thu, 09 Oct 2025) EllapsedTime: 104.4 seconds RetCode: 0 Status: OK