Package: iSEEtree Version: 1.2.0 Command: /Library/Frameworks/R.framework/Resources/bin/R CMD build --keep-empty-dirs --no-resave-data iSEEtree StartedAt: 2025-10-09 19:59:12 -0400 (Thu, 09 Oct 2025) EndedAt: 2025-10-09 20:01:57 -0400 (Thu, 09 Oct 2025) EllapsedTime: 165.6 seconds RetCode: 0 Status: OK PackageFile: iSEEtree_1.2.0.tar.gz PackageFileSize: 7.535 MiB