Package: iSEEtree Version: 1.1.2 Command: /Library/Frameworks/R.framework/Resources/bin/R CMD INSTALL iSEEtree StartedAt: 2025-02-19 15:25:49 -0500 (Wed, 19 Feb 2025) EndedAt: 2025-02-19 15:26:07 -0500 (Wed, 19 Feb 2025) EllapsedTime: 18.3 seconds RetCode: 0 Status: OK