Package: iSEEtree Version: 1.1.2 Command: /Library/Frameworks/R.framework/Resources/bin/R CMD check --install=check:iSEEtree.install-out.txt --library=/Library/Frameworks/R.framework/Resources/library --no-vignettes --timings iSEEtree_1.1.2.tar.gz StartedAt: 2025-02-19 19:53:28 -0500 (Wed, 19 Feb 2025) EndedAt: 2025-02-19 19:55:29 -0500 (Wed, 19 Feb 2025) EllapsedTime: 121.6 seconds RetCode: 0 Status: OK CheckDir: iSEEtree.Rcheck Warnings: 0