Package: iSEEpathways Version: 1.5.0 Command: E:\biocbuild\bbs-3.21-bioc\R\bin\R.exe CMD INSTALL iSEEpathways StartedAt: 2025-02-20 16:16:08 -0500 (Thu, 20 Feb 2025) EndedAt: 2025-02-20 16:17:01 -0500 (Thu, 20 Feb 2025) EllapsedTime: 53.0 seconds RetCode: 0 Status: OK