Package: iSEEpathways Version: 1.5.0 Command: /home/biocbuild/bbs-3.21-bioc/R/bin/R CMD INSTALL iSEEpathways StartedAt: 2025-02-19 15:23:38 -0500 (Wed, 19 Feb 2025) EndedAt: 2025-02-19 15:24:07 -0500 (Wed, 19 Feb 2025) EllapsedTime: 29.2 seconds RetCode: 0 Status: OK