Package: iSEEpathways Version: 1.5.0 Command: /Library/Frameworks/R.framework/Resources/bin/R CMD build --keep-empty-dirs --no-resave-data iSEEpathways StartedAt: 2025-02-20 17:06:51 -0500 (Thu, 20 Feb 2025) EndedAt: 2025-02-20 17:09:52 -0500 (Thu, 20 Feb 2025) EllapsedTime: 180.7 seconds RetCode: 0 Status: OK PackageFile: iSEEpathways_1.5.0.tar.gz PackageFileSize: 2.138 MiB