Package: iSEEindex Version: 1.5.0 Command: rm -rf iSEEindex.buildbin-libdir && mkdir iSEEindex.buildbin-libdir && E:\biocbuild\bbs-3.21-bioc\R\bin\R.exe CMD INSTALL --build --library=iSEEindex.buildbin-libdir iSEEindex_1.5.0.tar.gz StartedAt: 2025-02-20 08:01:44 -0500 (Thu, 20 Feb 2025) EndedAt: 2025-02-20 08:02:38 -0500 (Thu, 20 Feb 2025) EllapsedTime: 53.3 seconds RetCode: 0 Status: OK PackageFile: iSEEindex_1.5.0.zip PackageFileSize: 1.555 MiB