Package: iSEEhub Version: 1.9.0 Command: E:\biocbuild\bbs-3.21-bioc\R\bin\R.exe CMD check --no-multiarch --install=check:iSEEhub.install-out.txt --library=E:\biocbuild\bbs-3.21-bioc\R\library --no-vignettes --timings iSEEhub_1.9.0.tar.gz StartedAt: 2025-02-21 02:32:02 -0500 (Fri, 21 Feb 2025) EndedAt: 2025-02-21 02:37:06 -0500 (Fri, 21 Feb 2025) EllapsedTime: 303.7 seconds RetCode: 0 Status: OK CheckDir: iSEEhub.Rcheck Warnings: 0