Package: iSEEhub Version: 1.9.0 Command: chmod a+r iSEEhub -R && E:\biocbuild\bbs-3.21-bioc\R\bin\R.exe CMD build --keep-empty-dirs --no-resave-data iSEEhub StartedAt: 2025-02-20 19:31:20 -0500 (Thu, 20 Feb 2025) EndedAt: 2025-02-20 19:32:28 -0500 (Thu, 20 Feb 2025) EllapsedTime: 68.9 seconds RetCode: 0 Status: OK PackageFile: iSEEhub_1.9.0.tar.gz PackageFileSize: 6.619 MiB