Package: iSEEhub Version: 1.9.0 Command: rm -rf iSEEhub.buildbin-libdir && mkdir iSEEhub.buildbin-libdir && E:\biocbuild\bbs-3.21-bioc\R\bin\R.exe CMD INSTALL --build --library=iSEEhub.buildbin-libdir iSEEhub_1.9.0.tar.gz StartedAt: 2025-02-21 08:21:48 -0500 (Fri, 21 Feb 2025) EndedAt: 2025-02-21 08:22:34 -0500 (Fri, 21 Feb 2025) EllapsedTime: 46.3 seconds RetCode: 0 Status: OK PackageFile: iSEEhub_1.9.0.zip PackageFileSize: 3.69 MiB