Package: iSEEhub Version: 1.9.0 Command: /Library/Frameworks/R.framework/Resources/bin/R CMD check --install=check:iSEEhub.install-out.txt --library=/Library/Frameworks/R.framework/Resources/library --no-vignettes --timings iSEEhub_1.9.0.tar.gz StartedAt: 2025-02-20 21:10:54 -0500 (Thu, 20 Feb 2025) EndedAt: 2025-02-20 21:15:20 -0500 (Thu, 20 Feb 2025) EllapsedTime: 265.5 seconds RetCode: 0 Status: OK CheckDir: iSEEhub.Rcheck Warnings: 0