Package: iSEEhub Version: 1.9.0 Command: /Library/Frameworks/R.framework/Resources/bin/R CMD build --keep-empty-dirs --no-resave-data iSEEhub StartedAt: 2025-02-20 17:06:48 -0500 (Thu, 20 Feb 2025) EndedAt: 2025-02-20 17:07:46 -0500 (Thu, 20 Feb 2025) EllapsedTime: 58.2 seconds RetCode: 0 Status: OK PackageFile: iSEEhub_1.9.0.tar.gz PackageFileSize: 6.619 MiB