Package: iSEEhex Version: 1.9.0 Command: E:\biocbuild\bbs-3.21-bioc\R\bin\R.exe CMD check --no-multiarch --install=check:iSEEhex.install-out.txt --library=E:\biocbuild\bbs-3.21-bioc\R\library --no-vignettes --timings iSEEhex_1.9.0.tar.gz StartedAt: 2025-02-21 02:31:28 -0500 (Fri, 21 Feb 2025) EndedAt: 2025-02-21 02:35:52 -0500 (Fri, 21 Feb 2025) EllapsedTime: 264.3 seconds RetCode: 0 Status: OK CheckDir: iSEEhex.Rcheck Warnings: 0