Package: iSEEhex Version: 1.9.0 Command: chmod a+r iSEEhex -R && E:\biocbuild\bbs-3.21-bioc\R\bin\R.exe CMD build --keep-empty-dirs --no-resave-data iSEEhex StartedAt: 2025-02-20 19:31:18 -0500 (Thu, 20 Feb 2025) EndedAt: 2025-02-20 19:32:30 -0500 (Thu, 20 Feb 2025) EllapsedTime: 72.3 seconds RetCode: 0 Status: OK PackageFile: iSEEhex_1.9.0.tar.gz PackageFileSize: 486.3 KiB