Package: iSEEhex Version: 1.9.0 Command: rm -rf iSEEhex.buildbin-libdir && mkdir iSEEhex.buildbin-libdir && E:\biocbuild\bbs-3.21-bioc\R\bin\R.exe CMD INSTALL --build --library=iSEEhex.buildbin-libdir iSEEhex_1.9.0.tar.gz StartedAt: 2025-02-21 08:21:45 -0500 (Fri, 21 Feb 2025) EndedAt: 2025-02-21 08:22:30 -0500 (Fri, 21 Feb 2025) EllapsedTime: 45.2 seconds RetCode: 0 Status: OK PackageFile: iSEEhex_1.9.0.zip PackageFileSize: 561.9 KiB