Package: iSEEhex Version: 1.9.0 Command: /home/biocbuild/bbs-3.21-bioc/R/bin/R CMD build --keep-empty-dirs --no-resave-data iSEEhex StartedAt: 2025-02-20 17:55:06 -0500 (Thu, 20 Feb 2025) EndedAt: 2025-02-20 17:56:01 -0500 (Thu, 20 Feb 2025) EllapsedTime: 55.0 seconds RetCode: 0 Status: OK PackageFile: iSEEhex_1.9.0.tar.gz PackageFileSize: 486.3 KiB