Package: iSEEhex Version: 1.9.0 Command: rm -rf iSEEhex.buildbin-libdir && mkdir iSEEhex.buildbin-libdir && /Users/biocbuild/BBS/utils/build-universal.sh iSEEhex_1.9.0.tar.gz /Library/Frameworks/R.framework/Resources/bin/R iSEEhex.buildbin-libdir StartedAt: 2025-02-21 00:36:31 -0500 (Fri, 21 Feb 2025) EndedAt: 2025-02-21 00:37:13 -0500 (Fri, 21 Feb 2025) EllapsedTime: 42.3 seconds RetCode: 0 Status: OK PackageFile: iSEEhex_1.9.0.tgz PackageFileSize: 557.3 KiB