Package: iSEEhex Version: 1.9.0 Command: /Library/Frameworks/R.framework/Resources/bin/R CMD build --keep-empty-dirs --no-resave-data iSEEhex StartedAt: 2025-02-20 16:44:24 -0500 (Thu, 20 Feb 2025) EndedAt: 2025-02-20 16:44:46 -0500 (Thu, 20 Feb 2025) EllapsedTime: 22.2 seconds RetCode: 0 Status: OK PackageFile: iSEEhex_1.9.0.tar.gz PackageFileSize: 486.3 KiB