Package: iSEEhex Version: 1.9.0 Command: rm -rf iSEEhex.buildbin-libdir && mkdir iSEEhex.buildbin-libdir && /Users/biocbuild/BBS/utils/build-universal.sh iSEEhex_1.9.0.tar.gz /Library/Frameworks/R.framework/Resources/bin/R iSEEhex.buildbin-libdir StartedAt: 2025-02-20 22:23:08 -0500 (Thu, 20 Feb 2025) EndedAt: 2025-02-20 22:23:22 -0500 (Thu, 20 Feb 2025) EllapsedTime: 13.3 seconds RetCode: 0 Status: OK PackageFile: iSEEhex_1.9.0.tgz PackageFileSize: 557.6 KiB