Package: iSEEfier Version: 1.3.0 Command: E:\biocbuild\bbs-3.21-bioc\R\bin\R.exe CMD INSTALL iSEEfier StartedAt: 2025-02-20 16:45:06 -0500 (Thu, 20 Feb 2025) EndedAt: 2025-02-20 16:45:44 -0500 (Thu, 20 Feb 2025) EllapsedTime: 38.2 seconds RetCode: 0 Status: OK