Package: iSEEfier Version: 1.3.0 Command: chmod a+r iSEEfier -R && E:\biocbuild\bbs-3.21-bioc\R\bin\R.exe CMD build --keep-empty-dirs --no-resave-data iSEEfier StartedAt: 2025-02-20 19:30:56 -0500 (Thu, 20 Feb 2025) EndedAt: 2025-02-20 19:32:29 -0500 (Thu, 20 Feb 2025) EllapsedTime: 93.5 seconds RetCode: 0 Status: OK PackageFile: iSEEfier_1.3.0.tar.gz PackageFileSize: 354.2 KiB