Package: iSEEfier Version: 1.3.0 Command: rm -rf iSEEfier.buildbin-libdir && mkdir iSEEfier.buildbin-libdir && E:\biocbuild\bbs-3.21-bioc\R\bin\R.exe CMD INSTALL --build --library=iSEEfier.buildbin-libdir iSEEfier_1.3.0.tar.gz StartedAt: 2025-02-20 08:01:35 -0500 (Thu, 20 Feb 2025) EndedAt: 2025-02-20 08:02:18 -0500 (Thu, 20 Feb 2025) EllapsedTime: 42.8 seconds RetCode: 0 Status: OK PackageFile: iSEEfier_1.3.0.zip PackageFileSize: 409.1 KiB