Package: iSEEfier Version: 1.3.0 Command: /home/biocbuild/bbs-3.21-bioc/R/bin/R CMD INSTALL iSEEfier StartedAt: 2025-02-20 15:34:04 -0500 (Thu, 20 Feb 2025) EndedAt: 2025-02-20 15:34:31 -0500 (Thu, 20 Feb 2025) EllapsedTime: 27.4 seconds RetCode: 0 Status: OK