Package: iSEEfier Version: 1.3.0 Command: /home/biocbuild/bbs-3.21-bioc/R/bin/R CMD check --install=check:iSEEfier.install-out.txt --library=/home/biocbuild/bbs-3.21-bioc/R/site-library --timings iSEEfier_1.3.0.tar.gz StartedAt: 2025-02-20 22:59:27 -0500 (Thu, 20 Feb 2025) EndedAt: 2025-02-20 23:04:45 -0500 (Thu, 20 Feb 2025) EllapsedTime: 318.4 seconds RetCode: 0 Status: OK CheckDir: iSEEfier.Rcheck Warnings: 0