Package: iSEEfier Version: 1.3.0 Command: /Library/Frameworks/R.framework/Resources/bin/R CMD build --keep-empty-dirs --no-resave-data iSEEfier StartedAt: 2025-02-20 17:06:42 -0500 (Thu, 20 Feb 2025) EndedAt: 2025-02-20 17:08:00 -0500 (Thu, 20 Feb 2025) EllapsedTime: 77.8 seconds RetCode: 0 Status: OK PackageFile: iSEEfier_1.3.0.tar.gz PackageFileSize: 490.8 KiB