Package: iSEEfier Version: 1.3.0 Command: /Library/Frameworks/R.framework/Resources/bin/R CMD check --install=check:iSEEfier.install-out.txt --library=/Library/Frameworks/R.framework/Resources/library --no-vignettes --timings iSEEfier_1.3.0.tar.gz StartedAt: 2025-02-19 19:52:59 -0500 (Wed, 19 Feb 2025) EndedAt: 2025-02-19 19:54:51 -0500 (Wed, 19 Feb 2025) EllapsedTime: 111.3 seconds RetCode: 0 Status: OK CheckDir: iSEEfier.Rcheck Warnings: 0