Package: iSEEfier Version: 1.3.0 Command: /Library/Frameworks/R.framework/Resources/bin/R CMD build --keep-empty-dirs --no-resave-data iSEEfier StartedAt: 2025-02-19 16:44:51 -0500 (Wed, 19 Feb 2025) EndedAt: 2025-02-19 16:45:22 -0500 (Wed, 19 Feb 2025) EllapsedTime: 31.3 seconds RetCode: 0 Status: OK PackageFile: iSEEfier_1.3.0.tar.gz PackageFileSize: 490.6 KiB