Package: iSEEfier Version: 1.3.0 Command: rm -rf iSEEfier.buildbin-libdir && mkdir iSEEfier.buildbin-libdir && /Users/biocbuild/BBS/utils/build-universal.sh iSEEfier_1.3.0.tar.gz /Library/Frameworks/R.framework/Resources/bin/R iSEEfier.buildbin-libdir StartedAt: 2025-02-20 22:23:06 -0500 (Thu, 20 Feb 2025) EndedAt: 2025-02-20 22:23:20 -0500 (Thu, 20 Feb 2025) EllapsedTime: 13.3 seconds RetCode: 0 Status: OK PackageFile: iSEEfier_1.3.0.tgz PackageFileSize: 522.2 KiB