Package: iSEEde Version: 1.5.0 Command: E:\biocbuild\bbs-3.21-bioc\R\bin\R.exe CMD INSTALL iSEEde StartedAt: 2025-02-21 16:54:17 -0500 (Fri, 21 Feb 2025) EndedAt: 2025-02-21 16:55:00 -0500 (Fri, 21 Feb 2025) EllapsedTime: 42.7 seconds RetCode: 0 Status: OK