Package: iSEEde Version: 1.5.0 Command: /Library/Frameworks/R.framework/Resources/bin/R CMD build --keep-empty-dirs --no-resave-data iSEEde StartedAt: 2025-02-21 17:07:25 -0500 (Fri, 21 Feb 2025) EndedAt: 2025-02-21 17:09:27 -0500 (Fri, 21 Feb 2025) EllapsedTime: 122.1 seconds RetCode: 0 Status: OK PackageFile: iSEEde_1.5.0.tar.gz PackageFileSize: 3.089 MiB