Package: iSEEde Version: 1.5.0 Command: /Library/Frameworks/R.framework/Resources/bin/R CMD INSTALL iSEEde StartedAt: 2025-02-20 15:18:14 -0500 (Thu, 20 Feb 2025) EndedAt: 2025-02-20 15:18:27 -0500 (Thu, 20 Feb 2025) EllapsedTime: 13.2 seconds RetCode: 0 Status: OK